BEGIN:VCALENDAR
VERSION:2.0
METHOD:PUBLISH
BEGIN:VEVENT
DTSTART:20260527T180000Z
DTEND:20260527T184700Z
LOCATION:TELUS World of Science - Edmonton - Edmonton, AB
UID:20260422T133044Z@mysite.com
DTSTAMP:20260422T133044Z
SUMMARY:Butterfly Journey 3D
DESCRIPTION:For details, visit https://www.onlinebookings.edmontonscience.com/Selection.aspx?sch=633686
PRIORITY:5
CLASS:PUBLIC
END:VEVENT
END:VCALENDAR