BEGIN:VCALENDAR
VERSION:2.0
METHOD:PUBLISH
BEGIN:VEVENT
DTSTART:20260616T191500Z
DTEND:20260616T200000Z
LOCATION:TELUS World of Science - Edmonton - Edmonton, AB
UID:20260420T110441Z@mysite.com
DTSTAMP:20260420T110441Z
SUMMARY:Planet Power 3D
DESCRIPTION:For details, visit https://www.onlinebookings.edmontonscience.com/Selection.aspx?sch=633574
PRIORITY:5
CLASS:PUBLIC
END:VEVENT
END:VCALENDAR