BEGIN:VCALENDAR
VERSION:2.0
METHOD:PUBLISH
BEGIN:VEVENT
DTSTART:20260426T180000Z
DTEND:20260426T181500Z
LOCATION:TELUS World of Science - Edmonton - Edmonton, AB
UID:20260426T011532Z@mysite.com
DTSTAMP:20260426T011532Z
SUMMARY:Science Centre Admission
DESCRIPTION:For details, visit https://www.onlinebookings.edmontonscience.com/Selection.aspx?sch=628174
PRIORITY:5
CLASS:PUBLIC
END:VEVENT
END:VCALENDAR