BEGIN:VCALENDAR
VERSION:2.0
METHOD:PUBLISH
BEGIN:VEVENT
DTSTART:20260720T150000Z
DTEND:20260720T220000Z
LOCATION:TELUS World of Science - Edmonton - Edmonton, AB
UID:20260422T042509Z@mysite.com
DTSTAMP:20260422T042509Z
SUMMARY:Eager Engineers (Grade 3-4)
DESCRIPTION:For details, visit https://www.onlinebookings.edmontonscience.com/Selection.aspx?sch=627504
PRIORITY:5
CLASS:PUBLIC
END:VEVENT
END:VCALENDAR