BEGIN:VCALENDAR
VERSION:2.0
METHOD:PUBLISH
BEGIN:VEVENT
DTSTART:20260529T191000Z
DTEND:20260529T195500Z
LOCATION:TELUS World of Science - Edmonton - Edmonton, AB
UID:20260425T013739Z@mysite.com
DTSTAMP:20260425T013739Z
SUMMARY:Superhuman Body 3D
DESCRIPTION:For details, visit https://www.onlinebookings.edmontonscience.com/Selection.aspx?sch=633887
PRIORITY:5
CLASS:PUBLIC
END:VEVENT
END:VCALENDAR