BEGIN:VCALENDAR
VERSION:2.0
METHOD:PUBLISH
BEGIN:VEVENT
DTSTART:20260527T164500Z
DTEND:20260527T173000Z
LOCATION:TELUS World of Science - Edmonton - Edmonton, AB
UID:20260421T115356Z@mysite.com
DTSTAMP:20260421T115356Z
SUMMARY:Backyard Wilderness 3D
DESCRIPTION:For details, visit https://www.onlinebookings.edmontonscience.com/Selection.aspx?sch=633255
PRIORITY:5
CLASS:PUBLIC
END:VEVENT
END:VCALENDAR