BEGIN:VCALENDAR
VERSION:2.0
METHOD:PUBLISH
BEGIN:VEVENT
DTSTART:20260422T150000Z
DTEND:20260422T151500Z
LOCATION:TELUS World of Science - Edmonton - Edmonton, AB
UID:20260422T011613Z@mysite.com
DTSTAMP:20260422T011613Z
SUMMARY:Science Centre Admission
DESCRIPTION:For details, visit https://www.onlinebookings.edmontonscience.com/Selection.aspx?sch=633153
PRIORITY:5
CLASS:PUBLIC
END:VEVENT
END:VCALENDAR