BEGIN:VCALENDAR
VERSION:2.0
METHOD:PUBLISH
BEGIN:VEVENT
DTSTART:20260624T154500Z
DTEND:20260624T163000Z
LOCATION:TELUS World of Science - Edmonton - Edmonton, AB
UID:20260425T205721Z@mysite.com
DTSTAMP:20260425T205721Z
SUMMARY:D-Day: Normandy 1944 3D
DESCRIPTION:For details, visit https://www.onlinebookings.edmontonscience.com/Selection.aspx?sch=632801
PRIORITY:5
CLASS:PUBLIC
END:VEVENT
END:VCALENDAR