BEGIN:VCALENDAR
VERSION:2.0
METHOD:PUBLISH
BEGIN:VEVENT
DTSTART:20260422T190000Z
DTEND:20260422T191500Z
LOCATION:TELUS World of Science - Edmonton - Edmonton, AB
UID:20260422T031740Z@mysite.com
DTSTAMP:20260422T031740Z
SUMMARY:Science Centre Admission
DESCRIPTION:For details, visit https://www.onlinebookings.edmontonscience.com/Selection.aspx?sch=628141
PRIORITY:5
CLASS:PUBLIC
END:VEVENT
END:VCALENDAR