BEGIN:VCALENDAR
VERSION:2.0
METHOD:PUBLISH
BEGIN:VEVENT
DTSTART:20260727T150000Z
DTEND:20260727T220000Z
LOCATION:TELUS World of Science - Edmonton - Edmonton, AB
UID:20260423T114150Z@mysite.com
DTSTAMP:20260423T114150Z
SUMMARY:Clever Coders (Grade 3-4)
DESCRIPTION:For details, visit https://www.onlinebookings.edmontonscience.com/Selection.aspx?sch=627493
PRIORITY:5
CLASS:PUBLIC
END:VEVENT
END:VCALENDAR