BEGIN:VCALENDAR
VERSION:2.0
METHOD:PUBLISH
BEGIN:VEVENT
DTSTART:20260713T150000Z
DTEND:20260713T220000Z
LOCATION:TELUS World of Science - Edmonton - Edmonton, AB
UID:20260423T114149Z@mysite.com
DTSTAMP:20260423T114149Z
SUMMARY:Clever Coders (Grade 3-4)
DESCRIPTION:For details, visit https://www.onlinebookings.edmontonscience.com/Selection.aspx?sch=627492
PRIORITY:5
CLASS:PUBLIC
END:VEVENT
END:VCALENDAR