BEGIN:VCALENDAR
VERSION:2.0
METHOD:PUBLISH
BEGIN:VEVENT
DTSTART:20260617T191500Z
DTEND:20260617T195500Z
LOCATION:TELUS World of Science - Edmonton - Edmonton, AB
UID:20260424T012745Z@mysite.com
DTSTAMP:20260424T012745Z
SUMMARY:Extreme Weather 3D
DESCRIPTION:For details, visit https://www.onlinebookings.edmontonscience.com/Selection.aspx?sch=622524
PRIORITY:5
CLASS:PUBLIC
END:VEVENT
END:VCALENDAR