BEGIN:VCALENDAR
VERSION:2.0
METHOD:PUBLISH
BEGIN:VEVENT
DTSTART:20260508T154500Z
DTEND:20260508T162500Z
LOCATION:TELUS World of Science - Edmonton - Edmonton, AB
UID:20260424T013200Z@mysite.com
DTSTAMP:20260424T013200Z
SUMMARY:Extreme Weather 3D
DESCRIPTION:For details, visit https://www.onlinebookings.edmontonscience.com/Selection.aspx?sch=622436
PRIORITY:5
CLASS:PUBLIC
END:VEVENT
END:VCALENDAR